Package: CuratedAtlasQueryR Version: 1.5.0 Command: /Library/Frameworks/R.framework/Resources/bin/R CMD check --install=check:CuratedAtlasQueryR.install-out.txt --library=/Library/Frameworks/R.framework/Resources/library --no-vignettes --timings CuratedAtlasQueryR_1.5.0.tar.gz StartedAt: 2025-02-09 18:46:07 -0500 (Sun, 09 Feb 2025) EndedAt: 2025-02-09 18:48:43 -0500 (Sun, 09 Feb 2025) EllapsedTime: 155.8 seconds RetCode: 0 Status: OK CheckDir: CuratedAtlasQueryR.Rcheck Warnings: 0