Package: CuratedAtlasQueryR Version: 1.5.0 Command: /Library/Frameworks/R.framework/Resources/bin/R CMD build --keep-empty-dirs --no-resave-data CuratedAtlasQueryR StartedAt: 2025-02-09 16:25:56 -0500 (Sun, 09 Feb 2025) EndedAt: 2025-02-09 16:28:17 -0500 (Sun, 09 Feb 2025) EllapsedTime: 140.7 seconds RetCode: 0 Status: OK PackageFile: CuratedAtlasQueryR_1.5.0.tar.gz PackageFileSize: 967 KiB