Package: CuratedAtlasQueryR Version: 1.5.0 Command: /home/biocbuild/bbs-3.21-bioc/R/bin/R CMD build --keep-empty-dirs --no-resave-data CuratedAtlasQueryR StartedAt: 2025-02-09 16:50:54 -0500 (Sun, 09 Feb 2025) EndedAt: 2025-02-09 16:52:44 -0500 (Sun, 09 Feb 2025) EllapsedTime: 109.2 seconds RetCode: 0 Status: OK PackageFile: CuratedAtlasQueryR_1.5.0.tar.gz PackageFileSize: 977 KiB