Package: CuratedAtlasQueryR Version: 1.5.0 Command: /home/biocbuild/bbs-3.21-bioc/R/bin/R CMD check --install=check:CuratedAtlasQueryR.install-out.txt --library=/home/biocbuild/bbs-3.21-bioc/R/site-library --timings CuratedAtlasQueryR_1.5.0.tar.gz StartedAt: 2025-02-09 21:20:59 -0500 (Sun, 09 Feb 2025) EndedAt: 2025-02-09 21:27:38 -0500 (Sun, 09 Feb 2025) EllapsedTime: 398.5 seconds RetCode: 0 Status: OK CheckDir: CuratedAtlasQueryR.Rcheck Warnings: 0