Package: CuratedAtlasQueryR Version: 1.5.0 Command: chmod a+r CuratedAtlasQueryR -R && E:\biocbuild\bbs-3.21-bioc\R\bin\R.exe CMD build --keep-empty-dirs --no-resave-data CuratedAtlasQueryR StartedAt: 2025-02-09 18:07:34 -0500 (Sun, 09 Feb 2025) EndedAt: 2025-02-09 18:10:29 -0500 (Sun, 09 Feb 2025) EllapsedTime: 175.2 seconds RetCode: 0 Status: OK PackageFile: CuratedAtlasQueryR_1.5.0.tar.gz PackageFileSize: 906.6 KiB