Package: CyTOFpower Version: 1.13.0 Command: /Library/Frameworks/R.framework/Resources/bin/R CMD check --install=check:CyTOFpower.install-out.txt --library=/Library/Frameworks/R.framework/Resources/library --no-vignettes --timings CyTOFpower_1.13.0.tar.gz StartedAt: 2025-02-04 18:48:17 -0500 (Tue, 04 Feb 2025) EndedAt: 2025-02-04 18:48:43 -0500 (Tue, 04 Feb 2025) EllapsedTime: 26.3 seconds RetCode: 0 Status: OK CheckDir: CyTOFpower.Rcheck Warnings: 0