Package: CyTOFpower Version: 1.13.0 Command: /Library/Frameworks/R.framework/Resources/bin/R CMD INSTALL CyTOFpower StartedAt: 2025-02-09 15:28:41 -0500 (Sun, 09 Feb 2025) EndedAt: 2025-02-09 15:28:43 -0500 (Sun, 09 Feb 2025) EllapsedTime: 2.1 seconds RetCode: 0 Status: OK