Package: CyTOFpower Version: 1.13.0 Command: /home/biocbuild/R/R/bin/R CMD build --keep-empty-dirs --no-resave-data CyTOFpower StartedAt: 2025-01-28 22:14:13 -0000 (Tue, 28 Jan 2025) EndedAt: 2025-01-28 22:14:23 -0000 (Tue, 28 Jan 2025) EllapsedTime: 10.0 seconds RetCode: 0 Status: OK PackageFile: CyTOFpower_1.13.0.tar.gz PackageFileSize: 338.7 KiB