Package: CyTOFpower Version: 1.13.0 Command: rm -rf CyTOFpower.buildbin-libdir && mkdir CyTOFpower.buildbin-libdir && /Users/biocbuild/BBS/utils/build-universal.sh CyTOFpower_1.13.0.tar.gz /Library/Frameworks/R.framework/Resources/bin/R CyTOFpower.buildbin-libdir StartedAt: 2025-02-04 00:29:54 -0500 (Tue, 04 Feb 2025) EndedAt: 2025-02-04 00:30:04 -0500 (Tue, 04 Feb 2025) EllapsedTime: 9.3 seconds RetCode: 0 Status: OK PackageFile: CyTOFpower_1.13.0.tgz PackageFileSize: 553.7 KiB