Package: CyTOFpower Version: 1.13.0 Command: /Library/Frameworks/R.framework/Resources/bin/R CMD build --keep-empty-dirs --no-resave-data CyTOFpower StartedAt: 2025-02-03 16:28:38 -0500 (Mon, 03 Feb 2025) EndedAt: 2025-02-03 16:28:48 -0500 (Mon, 03 Feb 2025) EllapsedTime: 10.3 seconds RetCode: 0 Status: OK PackageFile: CyTOFpower_1.13.0.tar.gz PackageFileSize: 312.1 KiB