Package: CyTOFpower Version: 1.13.0 Command: /Library/Frameworks/R.framework/Resources/bin/R CMD check --install=check:CyTOFpower.install-out.txt --library=/Library/Frameworks/R.framework/Resources/library --no-vignettes --timings CyTOFpower_1.13.0.tar.gz StartedAt: 2025-02-03 19:55:12 -0500 (Mon, 03 Feb 2025) EndedAt: 2025-02-03 19:56:28 -0500 (Mon, 03 Feb 2025) EllapsedTime: 76.1 seconds RetCode: 1 Status: ERROR CheckDir: CyTOFpower.Rcheck Warnings: NA