Package: CyTOFpower Version: 1.13.0 Command: /home/biocbuild/bbs-3.21-bioc/R/bin/R CMD check --install=check:CyTOFpower.install-out.txt --library=/home/biocbuild/bbs-3.21-bioc/R/site-library --timings CyTOFpower_1.13.0.tar.gz StartedAt: 2025-02-04 21:22:35 -0500 (Tue, 04 Feb 2025) EndedAt: 2025-02-04 21:23:38 -0500 (Tue, 04 Feb 2025) EllapsedTime: 63.1 seconds RetCode: 1 Status: ERROR CheckDir: CyTOFpower.Rcheck Warnings: NA