Package: CyTOFpower Version: 1.13.0 Command: /home/biocbuild/bbs-3.21-bioc/R/bin/R CMD INSTALL CyTOFpower StartedAt: 2025-02-09 15:30:13 -0500 (Sun, 09 Feb 2025) EndedAt: 2025-02-09 15:30:18 -0500 (Sun, 09 Feb 2025) EllapsedTime: 5.3 seconds RetCode: 0 Status: OK