Package: CyTOFpower Version: 1.13.0 Command: rm -rf CyTOFpower.buildbin-libdir && mkdir CyTOFpower.buildbin-libdir && E:\biocbuild\bbs-3.21-bioc\R\bin\R.exe CMD INSTALL --build --library=CyTOFpower.buildbin-libdir CyTOFpower_1.13.0.tar.gz StartedAt: 2025-02-10 07:33:35 -0500 (Mon, 10 Feb 2025) EndedAt: 2025-02-10 07:34:10 -0500 (Mon, 10 Feb 2025) EllapsedTime: 35.1 seconds RetCode: 0 Status: OK PackageFile: CyTOFpower_1.13.0.zip PackageFileSize: 555.6 KiB