Package: CyTOFpower Version: 1.13.0 Command: E:\biocbuild\bbs-3.21-bioc\R\bin\R.exe CMD INSTALL CyTOFpower StartedAt: 2025-02-09 16:14:26 -0500 (Sun, 09 Feb 2025) EndedAt: 2025-02-09 16:14:47 -0500 (Sun, 09 Feb 2025) EllapsedTime: 21.0 seconds RetCode: 0 Status: OK