Package: CytoDx Version: 1.27.0 Command: rm -rf CytoDx.buildbin-libdir && mkdir CytoDx.buildbin-libdir && /Users/biocbuild/BBS/utils/build-universal.sh CytoDx_1.27.0.tar.gz /Library/Frameworks/R.framework/Resources/bin/R CytoDx.buildbin-libdir StartedAt: 2025-02-09 22:11:14 -0500 (Sun, 09 Feb 2025) EndedAt: 2025-02-09 22:11:19 -0500 (Sun, 09 Feb 2025) EllapsedTime: 5.1 seconds RetCode: 0 Status: OK PackageFile: CytoDx_1.27.0.tgz PackageFileSize: 516.1 KiB