Package: CytoDx Version: 1.27.0 Command: /Library/Frameworks/R.framework/Resources/bin/R CMD build --keep-empty-dirs --no-resave-data CytoDx StartedAt: 2025-02-09 16:02:10 -0500 (Sun, 09 Feb 2025) EndedAt: 2025-02-09 16:02:19 -0500 (Sun, 09 Feb 2025) EllapsedTime: 9.1 seconds RetCode: 0 Status: OK PackageFile: CytoDx_1.27.0.tar.gz PackageFileSize: 660.6 KiB