Package: CytoDx Version: 1.27.0 Command: /home/biocbuild/R/R/bin/R CMD build --keep-empty-dirs --no-resave-data CytoDx StartedAt: 2025-01-28 22:13:47 -0000 (Tue, 28 Jan 2025) EndedAt: 2025-01-28 22:14:14 -0000 (Tue, 28 Jan 2025) EllapsedTime: 27.0 seconds RetCode: 0 Status: OK PackageFile: CytoDx_1.27.0.tar.gz PackageFileSize: 629.7 KiB