Package: CytoDx Version: 1.27.0 Command: /home/biocbuild/R/R/bin/R CMD INSTALL CytoDx StartedAt: 2025-01-29 20:26:16 -0000 (Wed, 29 Jan 2025) EndedAt: 2025-01-29 20:26:32 -0000 (Wed, 29 Jan 2025) EllapsedTime: 15.6 seconds RetCode: 0 Status: OK