Package: CytoDx Version: 1.27.0 Command: rm -rf CytoDx.buildbin-libdir && mkdir CytoDx.buildbin-libdir && /Users/biocbuild/BBS/utils/build-universal.sh CytoDx_1.27.0.tar.gz /Library/Frameworks/R.framework/Resources/bin/R CytoDx.buildbin-libdir StartedAt: 2025-02-10 00:49:08 -0500 (Mon, 10 Feb 2025) EndedAt: 2025-02-10 00:49:26 -0500 (Mon, 10 Feb 2025) EllapsedTime: 17.4 seconds RetCode: 0 Status: OK PackageFile: CytoDx_1.27.0.tgz PackageFileSize: 516.6 KiB