Package: CytoDx Version: 1.27.0 Command: /Library/Frameworks/R.framework/Resources/bin/R CMD build --keep-empty-dirs --no-resave-data CytoDx StartedAt: 2025-02-12 16:24:15 -0500 (Wed, 12 Feb 2025) EndedAt: 2025-02-12 16:24:42 -0500 (Wed, 12 Feb 2025) EllapsedTime: 26.2 seconds RetCode: 0 Status: OK PackageFile: CytoDx_1.27.0.tar.gz PackageFileSize: 661.4 KiB