Package: CytoDx Version: 1.27.0 Command: /Library/Frameworks/R.framework/Resources/bin/R CMD INSTALL CytoDx StartedAt: 2025-02-09 15:38:32 -0500 (Sun, 09 Feb 2025) EndedAt: 2025-02-09 15:38:49 -0500 (Sun, 09 Feb 2025) EllapsedTime: 16.7 seconds RetCode: 0 Status: OK