Package: CytoDx Version: 1.27.0 Command: /home/biocbuild/bbs-3.21-bioc/R/bin/R CMD build --keep-empty-dirs --no-resave-data CytoDx StartedAt: 2025-02-09 16:51:59 -0500 (Sun, 09 Feb 2025) EndedAt: 2025-02-09 16:52:21 -0500 (Sun, 09 Feb 2025) EllapsedTime: 21.2 seconds RetCode: 0 Status: OK PackageFile: CytoDx_1.27.0.tar.gz PackageFileSize: 661.3 KiB