Package: CytoDx Version: 1.27.0 Command: /home/biocbuild/bbs-3.21-bioc/R/bin/R CMD INSTALL CytoDx StartedAt: 2025-02-09 15:13:31 -0500 (Sun, 09 Feb 2025) EndedAt: 2025-02-09 15:13:44 -0500 (Sun, 09 Feb 2025) EllapsedTime: 12.5 seconds RetCode: 0 Status: OK