Package: CytoDx Version: 1.27.0 Command: chmod a+r CytoDx -R && E:\biocbuild\bbs-3.21-bioc\R\bin\R.exe CMD build --keep-empty-dirs --no-resave-data CytoDx StartedAt: 2025-02-09 18:08:43 -0500 (Sun, 09 Feb 2025) EndedAt: 2025-02-09 18:09:13 -0500 (Sun, 09 Feb 2025) EllapsedTime: 30.5 seconds RetCode: 0 Status: OK PackageFile: CytoDx_1.27.0.tar.gz PackageFileSize: 662.8 KiB