Package: CytoDx Version: 1.27.0 Command: E:\biocbuild\bbs-3.21-bioc\R\bin\R.exe CMD INSTALL CytoDx StartedAt: 2025-02-09 16:02:44 -0500 (Sun, 09 Feb 2025) EndedAt: 2025-02-09 16:03:06 -0500 (Sun, 09 Feb 2025) EllapsedTime: 21.7 seconds RetCode: 0 Status: OK