Package: CytoGLMM Version: 1.15.0 Command: /home/biocbuild/bbs-3.21-bioc/R/bin/R CMD INSTALL CytoGLMM StartedAt: 2025-02-09 15:10:50 -0500 (Sun, 09 Feb 2025) EndedAt: 2025-02-09 15:11:18 -0500 (Sun, 09 Feb 2025) EllapsedTime: 27.8 seconds RetCode: 0 Status: OK