Package: CytoGLMM Version: 1.15.0 Command: rm -rf CytoGLMM.buildbin-libdir && mkdir CytoGLMM.buildbin-libdir && E:\biocbuild\bbs-3.21-bioc\R\bin\R.exe CMD INSTALL --build --library=CytoGLMM.buildbin-libdir CytoGLMM_1.15.0.tar.gz StartedAt: 2025-02-13 07:44:18 -0500 (Thu, 13 Feb 2025) EndedAt: 2025-02-13 07:44:45 -0500 (Thu, 13 Feb 2025) EllapsedTime: 27.0 seconds RetCode: 0 Status: OK PackageFile: CytoGLMM_1.15.0.zip PackageFileSize: 383 KiB