Package: CytoGLMM Version: 1.15.0 Command: chmod a+r CytoGLMM -R && E:\biocbuild\bbs-3.21-bioc\R\bin\R.exe CMD build --keep-empty-dirs --no-resave-data CytoGLMM StartedAt: 2025-02-09 18:08:59 -0500 (Sun, 09 Feb 2025) EndedAt: 2025-02-09 18:11:20 -0500 (Sun, 09 Feb 2025) EllapsedTime: 141.0 seconds RetCode: 0 Status: OK PackageFile: CytoGLMM_1.15.0.tar.gz PackageFileSize: 295 KiB