Package: CytoMDS Version: 1.3.5 Maintainer: Philippe Hauchamps MaintainerEmail: philippe.hauchamps at uclouvain.be git_url: https://git.bioconductor.org/packages/CytoMDS git_branch: devel git_last_commit: c4f0405 git_last_commit_date: 2025-01-21 10:30:12 -0500 (Tue, 21 Jan 2025)