Package: CytoMDS Version: 1.3.5 Command: /Library/Frameworks/R.framework/Resources/bin/R CMD build --keep-empty-dirs --no-resave-data CytoMDS StartedAt: 2025-02-09 16:27:05 -0500 (Sun, 09 Feb 2025) EndedAt: 2025-02-09 16:30:32 -0500 (Sun, 09 Feb 2025) EllapsedTime: 207.2 seconds RetCode: 0 Status: OK PackageFile: CytoMDS_1.3.5.tar.gz PackageFileSize: 5.041 MiB