Package: CytoMDS Version: 1.3.5 Command: /home/biocbuild/bbs-3.21-bioc/R/bin/R CMD check --install=check:CytoMDS.install-out.txt --library=/home/biocbuild/bbs-3.21-bioc/R/site-library --timings CytoMDS_1.3.5.tar.gz StartedAt: 2025-02-09 21:25:31 -0500 (Sun, 09 Feb 2025) EndedAt: 2025-02-09 21:33:58 -0500 (Sun, 09 Feb 2025) EllapsedTime: 507.6 seconds RetCode: 0 Status: OK CheckDir: CytoMDS.Rcheck Warnings: 0