Package: CytoMDS Version: 1.3.5 Command: /home/biocbuild/bbs-3.21-bioc/R/bin/R CMD INSTALL CytoMDS StartedAt: 2025-02-09 15:33:35 -0500 (Sun, 09 Feb 2025) EndedAt: 2025-02-09 15:33:49 -0500 (Sun, 09 Feb 2025) EllapsedTime: 14.2 seconds RetCode: 0 Status: OK