Package: CytoMDS Version: 1.3.5 Command: chmod a+r CytoMDS -R && E:\biocbuild\bbs-3.21-bioc\R\bin\R.exe CMD build --keep-empty-dirs --no-resave-data CytoMDS StartedAt: 2025-02-09 18:09:25 -0500 (Sun, 09 Feb 2025) EndedAt: 2025-02-09 18:13:04 -0500 (Sun, 09 Feb 2025) EllapsedTime: 219.1 seconds RetCode: 0 Status: OK PackageFile: CytoMDS_1.3.5.tar.gz PackageFileSize: 2.719 MiB