Package: CytoML Version: 2.19.1 Command: /home/biocbuild/R/R/bin/R CMD check --install=check:CytoML.install-out.txt --library=/home/biocbuild/R/R/site-library --no-vignettes --timings CytoML_2.19.1.tar.gz StartedAt: 2025-01-28 09:42:18 -0000 (Tue, 28 Jan 2025) EndedAt: 2025-01-28 09:45:23 -0000 (Tue, 28 Jan 2025) EllapsedTime: 185.1 seconds RetCode: 0 Status: WARNINGS CheckDir: CytoML.Rcheck Warnings: 5