Package: CytoML Version: 2.19.1 Command: /home/biocbuild/R/R/bin/R CMD INSTALL CytoML StartedAt: 2025-01-29 19:52:48 -0000 (Wed, 29 Jan 2025) EndedAt: 2025-01-29 19:54:13 -0000 (Wed, 29 Jan 2025) EllapsedTime: 85.1 seconds RetCode: 0 Status: OK