Package: CytoML Version: 2.19.1 Command: rm -rf CytoML.buildbin-libdir && mkdir CytoML.buildbin-libdir && /Users/biocbuild/BBS/utils/build-universal.sh CytoML_2.19.1.tar.gz /Library/Frameworks/R.framework/Resources/bin/R CytoML.buildbin-libdir StartedAt: 2025-02-10 00:49:18 -0500 (Mon, 10 Feb 2025) EndedAt: 2025-02-10 00:50:43 -0500 (Mon, 10 Feb 2025) EllapsedTime: 85.4 seconds RetCode: 0 Status: OK PackageFile: CytoML_2.19.1.tgz PackageFileSize: 9.59 MiB