Package: CytoML Version: 2.19.1 Command: /Library/Frameworks/R.framework/Resources/bin/R CMD build --keep-empty-dirs --no-resave-data CytoML StartedAt: 2025-02-04 16:24:28 -0500 (Tue, 04 Feb 2025) EndedAt: 2025-02-04 16:26:07 -0500 (Tue, 04 Feb 2025) EllapsedTime: 99.5 seconds RetCode: 0 Status: OK PackageFile: CytoML_2.19.1.tar.gz PackageFileSize: 8.565 MiB