Package: CytoML Version: 2.19.1 Command: /Library/Frameworks/R.framework/Resources/bin/R CMD check --install=check:CytoML.install-out.txt --library=/Library/Frameworks/R.framework/Resources/library --no-vignettes --timings CytoML_2.19.1.tar.gz StartedAt: 2025-02-04 19:54:16 -0500 (Tue, 04 Feb 2025) EndedAt: 2025-02-04 19:56:58 -0500 (Tue, 04 Feb 2025) EllapsedTime: 162.6 seconds RetCode: 0 Status: WARNINGS CheckDir: CytoML.Rcheck Warnings: 5