Package: CytoML Version: 2.19.1 Command: /Library/Frameworks/R.framework/Resources/bin/R CMD INSTALL CytoML StartedAt: 2025-02-04 15:17:45 -0500 (Tue, 04 Feb 2025) EndedAt: 2025-02-04 15:19:01 -0500 (Tue, 04 Feb 2025) EllapsedTime: 75.5 seconds RetCode: 0 Status: OK