Package: CytoML Version: 2.19.1 Command: /home/biocbuild/bbs-3.21-bioc/R/bin/R CMD check --install=check:CytoML.install-out.txt --library=/home/biocbuild/bbs-3.21-bioc/R/site-library --timings CytoML_2.19.1.tar.gz StartedAt: 2025-02-04 21:23:57 -0500 (Tue, 04 Feb 2025) EndedAt: 2025-02-04 21:26:51 -0500 (Tue, 04 Feb 2025) EllapsedTime: 174.3 seconds RetCode: 0 Status: WARNINGS CheckDir: CytoML.Rcheck Warnings: 5