Package: CytoML Version: 2.19.1 Command: /home/biocbuild/bbs-3.21-bioc/R/bin/R CMD INSTALL CytoML StartedAt: 2025-02-09 15:33:04 -0500 (Sun, 09 Feb 2025) EndedAt: 2025-02-09 15:34:02 -0500 (Sun, 09 Feb 2025) EllapsedTime: 58.0 seconds RetCode: 0 Status: OK