Package: CytoML Version: 2.19.1 Command: chmod a+r CytoML -R && E:\biocbuild\bbs-3.21-bioc\R\bin\R.exe CMD build --keep-empty-dirs --no-resave-data CytoML StartedAt: 2025-02-04 18:08:21 -0500 (Tue, 04 Feb 2025) EndedAt: 2025-02-04 18:10:17 -0500 (Tue, 04 Feb 2025) EllapsedTime: 115.8 seconds RetCode: 1 Status: ERROR PackageFile: None PackageFileSize: NA