Package: CytoML Version: 2.19.1 Command: E:\biocbuild\bbs-3.21-bioc\R\bin\R.exe CMD INSTALL CytoML StartedAt: 2025-02-09 16:01:11 -0500 (Sun, 09 Feb 2025) EndedAt: 2025-02-09 16:01:52 -0500 (Sun, 09 Feb 2025) EllapsedTime: 41.0 seconds RetCode: 1 Status: ERROR