Package: DAMEfinder Version: 1.19.0 Command: /home/biocbuild/R/R/bin/R CMD INSTALL DAMEfinder StartedAt: 2025-01-29 20:00:17 -0000 (Wed, 29 Jan 2025) EndedAt: 2025-01-29 20:00:55 -0000 (Wed, 29 Jan 2025) EllapsedTime: 38.3 seconds RetCode: 0 Status: OK