Package: DAMEfinder Version: 1.19.0 Command: rm -rf DAMEfinder.buildbin-libdir && mkdir DAMEfinder.buildbin-libdir && /Users/biocbuild/BBS/utils/build-universal.sh DAMEfinder_1.19.0.tar.gz /Library/Frameworks/R.framework/Resources/bin/R DAMEfinder.buildbin-libdir StartedAt: 2025-02-10 00:49:27 -0500 (Mon, 10 Feb 2025) EndedAt: 2025-02-10 00:50:08 -0500 (Mon, 10 Feb 2025) EllapsedTime: 41.5 seconds RetCode: 0 Status: OK PackageFile: DAMEfinder_1.19.0.tgz PackageFileSize: 5.046 MiB