Package: DAMEfinder Version: 1.19.0 Command: /Library/Frameworks/R.framework/Resources/bin/R CMD build --keep-empty-dirs --no-resave-data DAMEfinder StartedAt: 2025-02-09 16:27:45 -0500 (Sun, 09 Feb 2025) EndedAt: 2025-02-09 16:30:15 -0500 (Sun, 09 Feb 2025) EllapsedTime: 149.9 seconds RetCode: 0 Status: OK PackageFile: DAMEfinder_1.19.0.tar.gz PackageFileSize: 4.953 MiB