Package: DAMEfinder Version: 1.19.0 Command: /Library/Frameworks/R.framework/Resources/bin/R CMD INSTALL DAMEfinder StartedAt: 2025-02-09 15:21:26 -0500 (Sun, 09 Feb 2025) EndedAt: 2025-02-09 15:22:05 -0500 (Sun, 09 Feb 2025) EllapsedTime: 38.6 seconds RetCode: 0 Status: OK