Package: DAMEfinder Version: 1.19.0 Command: /home/biocbuild/bbs-3.21-bioc/R/bin/R CMD check --install=check:DAMEfinder.install-out.txt --library=/home/biocbuild/bbs-3.21-bioc/R/site-library --timings DAMEfinder_1.19.0.tar.gz StartedAt: 2025-02-09 21:27:35 -0500 (Sun, 09 Feb 2025) EndedAt: 2025-02-09 21:34:22 -0500 (Sun, 09 Feb 2025) EllapsedTime: 407.5 seconds RetCode: 0 Status: OK CheckDir: DAMEfinder.Rcheck Warnings: 0