Package: DAMEfinder Version: 1.19.0 Command: rm -rf DAMEfinder.buildbin-libdir && mkdir DAMEfinder.buildbin-libdir && E:\biocbuild\bbs-3.21-bioc\R\bin\R.exe CMD INSTALL --build --library=DAMEfinder.buildbin-libdir DAMEfinder_1.19.0.tar.gz StartedAt: 2025-02-10 07:34:28 -0500 (Mon, 10 Feb 2025) EndedAt: 2025-02-10 07:35:13 -0500 (Mon, 10 Feb 2025) EllapsedTime: 44.5 seconds RetCode: 0 Status: OK PackageFile: DAMEfinder_1.19.0.zip PackageFileSize: 3.153 MiB